BEGIN:VCALENDAR
VERSION:2.0
PRODID:-//Pantonic All Stars Steel Orchestra - ECPv4.8.2//NONSGML v1.0//EN
CALSCALE:GREGORIAN
METHOD:PUBLISH
X-WR-CALNAME:Pantonic All Stars Steel Orchestra
X-ORIGINAL-URL:https://www.pantonic-all-stars.org
X-WR-CALDESC:Events for Pantonic All Stars Steel Orchestra
BEGIN:VEVENT
DTSTART;VALUE=DATE:20250412
DTEND;VALUE=DATE:20250413
DTSTAMP:20260421T161045
CREATED:20250421T211133Z
LAST-MODIFIED:20250421T211133Z
UID:208180-1744416000-1744502399@www.pantonic-all-stars.org
SUMMARY:chesterfield
DESCRIPTION:
URL:https://www.pantonic-all-stars.org/event/chesterfield-6/
LOCATION:Chesterfield Market\, Market Pl\, Chesterfield\, Derbyshire\, S40 1AR\, United Kingdom
END:VEVENT
END:VCALENDAR