BEGIN:VCALENDAR
VERSION:2.0
PRODID:-//Pantonic All Stars Steel Orchestra - ECPv4.8.2//NONSGML v1.0//EN
CALSCALE:GREGORIAN
METHOD:PUBLISH
X-WR-CALNAME:Pantonic All Stars Steel Orchestra
X-ORIGINAL-URL:https://www.pantonic-all-stars.org
X-WR-CALDESC:Events for Pantonic All Stars Steel Orchestra
BEGIN:VEVENT
DTSTART;VALUE=DATE:20250405
DTEND;VALUE=DATE:20250406
DTSTAMP:20260421T161239
CREATED:20250421T211011Z
LAST-MODIFIED:20250421T211011Z
UID:208178-1743811200-1743897599@www.pantonic-all-stars.org
SUMMARY:Ashton
DESCRIPTION:
URL:https://www.pantonic-all-stars.org/event/ashton-3/
LOCATION:Ashton-u-Lyne Town Centre\, 36 Warrington St\,\, Ashton-under-Lyne\, OL6 6BZ
GEO:53.489390992703;-2.0942289415263
X-APPLE-STRUCTURED-LOCATION;VALUE=URI;X-ADDRESS=Ashton-u-Lyne Town Centre 36 Warrington St Ashton-under-Lyne OL6 6BZ;X-APPLE-RADIUS=500;X-TITLE=36 Warrington St\,:geo:-2.0942289415263,53.489390992703
END:VEVENT
END:VCALENDAR