BEGIN:VCALENDAR
VERSION:2.0
PRODID:-//Pantonic All Stars Steel Orchestra - ECPv4.8.2//NONSGML v1.0//EN
CALSCALE:GREGORIAN
METHOD:PUBLISH
X-WR-CALNAME:Pantonic All Stars Steel Orchestra
X-ORIGINAL-URL:https://www.pantonic-all-stars.org
X-WR-CALDESC:Events for Pantonic All Stars Steel Orchestra
BEGIN:VEVENT
DTSTART;TZID=Europe/London:20250315T110000
DTEND;TZID=Europe/London:20250315T163000
DTSTAMP:20260421T203301
CREATED:20250421T210653Z
LAST-MODIFIED:20250421T210744Z
UID:208172-1742036400-1742056200@www.pantonic-all-stars.org
SUMMARY:Liverpool One
DESCRIPTION:
URL:https://www.pantonic-all-stars.org/event/liverpool-one-6/
LOCATION:Liverpool One\, Sugar Steps\, Liverpool\, L1 8BJ
END:VEVENT
END:VCALENDAR