BEGIN:VCALENDAR
VERSION:2.0
PRODID:-//Pantonic All Stars Steel Orchestra - ECPv4.8.2//NONSGML v1.0//EN
CALSCALE:GREGORIAN
METHOD:PUBLISH
X-WR-CALNAME:Pantonic All Stars Steel Orchestra
X-ORIGINAL-URL:https://www.pantonic-all-stars.org
X-WR-CALDESC:Events for Pantonic All Stars Steel Orchestra
BEGIN:VEVENT
DTSTART;VALUE=DATE:20230520
DTEND;VALUE=DATE:20230521
DTSTAMP:20260422T013912
CREATED:20230409T085842Z
LAST-MODIFIED:20230409T085842Z
UID:207955-1684540800-1684627199@www.pantonic-all-stars.org
SUMMARY:Wedding
DESCRIPTION:Private Event \n
URL:https://www.pantonic-all-stars.org/event/wedding-2/
END:VEVENT
END:VCALENDAR