BEGIN:VCALENDAR
VERSION:2.0
PRODID:-//Pantonic All Stars Steel Orchestra - ECPv4.8.2//NONSGML v1.0//EN
CALSCALE:GREGORIAN
METHOD:PUBLISH
X-WR-CALNAME:Pantonic All Stars Steel Orchestra
X-ORIGINAL-URL:https://www.pantonic-all-stars.org
X-WR-CALDESC:Events for Pantonic All Stars Steel Orchestra
BEGIN:VEVENT
DTSTART;VALUE=DATE:20230430
DTEND;VALUE=DATE:20230501
DTSTAMP:20260424T015609
CREATED:20230409T085124Z
LAST-MODIFIED:20230409T092800Z
UID:207949-1682812800-1682899199@www.pantonic-all-stars.org
SUMMARY:Private Event
DESCRIPTION:
URL:https://www.pantonic-all-stars.org/event/private-event/
END:VEVENT
END:VCALENDAR